BEGIN:VCALENDAR
VERSION:2.0
PRODID:-//Östra Aros MCK - ECPv6.15.20//NONSGML v1.0//EN
CALSCALE:GREGORIAN
METHOD:PUBLISH
X-WR-CALNAME:Östra Aros MCK
X-ORIGINAL-URL:https://oamck.se
X-WR-CALDESC:Händelser för Östra Aros MCK
REFRESH-INTERVAL;VALUE=DURATION:PT1H
X-Robots-Tag:noindex
X-PUBLISHED-TTL:PT1H
BEGIN:VTIMEZONE
TZID:Europe/Stockholm
BEGIN:DAYLIGHT
TZOFFSETFROM:+0100
TZOFFSETTO:+0200
TZNAME:CEST
DTSTART:20250330T010000
END:DAYLIGHT
BEGIN:STANDARD
TZOFFSETFROM:+0200
TZOFFSETTO:+0100
TZNAME:CET
DTSTART:20251026T010000
END:STANDARD
BEGIN:DAYLIGHT
TZOFFSETFROM:+0100
TZOFFSETTO:+0200
TZNAME:CEST
DTSTART:20260329T010000
END:DAYLIGHT
BEGIN:STANDARD
TZOFFSETFROM:+0200
TZOFFSETTO:+0100
TZNAME:CET
DTSTART:20261025T010000
END:STANDARD
BEGIN:DAYLIGHT
TZOFFSETFROM:+0100
TZOFFSETTO:+0200
TZNAME:CEST
DTSTART:20270328T010000
END:DAYLIGHT
BEGIN:STANDARD
TZOFFSETFROM:+0200
TZOFFSETTO:+0100
TZNAME:CET
DTSTART:20271031T010000
END:STANDARD
END:VTIMEZONE
BEGIN:VEVENT
DTSTART;TZID=Europe/Stockholm:20260425T100000
DTEND;TZID=Europe/Stockholm:20260425T170000
DTSTAMP:20260424T101255
CREATED:20260215T110923Z
LAST-MODIFIED:20260215T111507Z
UID:6438-1777111200-1777136400@oamck.se
SUMMARY:Dagtouring
DESCRIPTION:Avfärd från Lelles \n 
URL:https://oamck.se/events/dagtouring/
LOCATION:Lelles MC\, Nymansgatan 6\, Uppsala\, 75323\, Sverige
END:VEVENT
BEGIN:VEVENT
DTSTART;TZID=Europe/Stockholm:20260426T100000
DTEND;TZID=Europe/Stockholm:20260426T140000
DTSTAMP:20260424T101255
CREATED:20260314T132115Z
LAST-MODIFIED:20260314T132115Z
UID:6496-1777197600-1777212000@oamck.se
SUMMARY:Städdag Kåken  ( OBS Söndag)
DESCRIPTION:
URL:https://oamck.se/events/staddag-kaken-obs-sondag/
LOCATION:Stångby
END:VEVENT
BEGIN:VEVENT
DTSTART;TZID=Europe/Stockholm:20260426T190000
DTEND;TZID=Europe/Stockholm:20260426T210000
DTSTAMP:20260424T101255
CREATED:20260116T080357Z
LAST-MODIFIED:20260116T080357Z
UID:6366-1777230000-1777237200@oamck.se
SUMMARY:Fikakväll i klubbkåken
DESCRIPTION:Fikakväll i klubbkåken i Stångby.\nFikavärd: Roger Söderbom
URL:https://oamck.se/events/fikakvall-i-klubbkaken-7/
LOCATION:Stångby
END:VEVENT
BEGIN:VEVENT
DTSTART;TZID=Europe/Stockholm:20260503T190000
DTEND;TZID=Europe/Stockholm:20260503T210000
DTSTAMP:20260424T101255
CREATED:20260116T080528Z
LAST-MODIFIED:20260116T082318Z
UID:6368-1777834800-1777842000@oamck.se
SUMMARY:Fikakväll i klubbkåken
DESCRIPTION:Fikakväll i klubbkåken i Stångby.\nFikavärd: Mats Hjelm
URL:https://oamck.se/events/fikakvall-i-klubbkaken-8/
LOCATION:Stångby
END:VEVENT
BEGIN:VEVENT
DTSTART;TZID=Europe/Stockholm:20260504T180000
DTEND;TZID=Europe/Stockholm:20260504T210000
DTSTAMP:20260424T101255
CREATED:20260215T111221Z
LAST-MODIFIED:20260215T111257Z
UID:6440-1777917600-1777928400@oamck.se
SUMMARY:Knixpremiär
DESCRIPTION:
URL:https://oamck.se/events/knixpremiar-2/
LOCATION:Rörken\, Rörken\, Uppsala\, Sverige
END:VEVENT
BEGIN:VEVENT
DTSTART;TZID=Europe/Stockholm:20260510T190000
DTEND;TZID=Europe/Stockholm:20260510T210000
DTSTAMP:20260424T101255
CREATED:20260116T080644Z
LAST-MODIFIED:20260116T082420Z
UID:6370-1778439600-1778446800@oamck.se
SUMMARY:Fikakväll i klubbkåken
DESCRIPTION:Fikakväll i klubbkåken i Stångby.\nFikavärd: Christer Oliveskog
URL:https://oamck.se/events/fikakvall-i-klubbkaken-9/
LOCATION:Stångby
END:VEVENT
BEGIN:VEVENT
DTSTART;TZID=Europe/Stockholm:20260516T080000
DTEND;TZID=Europe/Stockholm:20260517T170000
DTSTAMP:20260424T101255
CREATED:20260215T111855Z
LAST-MODIFIED:20260215T111916Z
UID:6442-1778918400-1779037200@oamck.se
SUMMARY:Hemlig resa
DESCRIPTION:Info. Kommer senare.
URL:https://oamck.se/events/hemlig-resa/
END:VEVENT
BEGIN:VEVENT
DTSTART;TZID=Europe/Stockholm:20260517T190000
DTEND;TZID=Europe/Stockholm:20260517T210000
DTSTAMP:20260424T101255
CREATED:20260116T080830Z
LAST-MODIFIED:20260116T082500Z
UID:6372-1779044400-1779051600@oamck.se
SUMMARY:Fikakväll i klubbkåken
DESCRIPTION:Fikakväll i klubbkåken i Stångby.\nFikavärd: Peter Appelqvist
URL:https://oamck.se/events/fikakvall-i-klubbkaken-10/
LOCATION:Stångby
END:VEVENT
BEGIN:VEVENT
DTSTART;TZID=Europe/Stockholm:20260523T100000
DTEND;TZID=Europe/Stockholm:20260523T170000
DTSTAMP:20260424T101255
CREATED:20260215T112104Z
LAST-MODIFIED:20260215T112104Z
UID:6444-1779530400-1779555600@oamck.se
SUMMARY:Dagtouring
DESCRIPTION:Avfärd från Lelles
URL:https://oamck.se/events/dagtouring-2/
LOCATION:Lelles MC\, Nymansgatan 6\, Uppsala\, 75323\, Sverige
END:VEVENT
BEGIN:VEVENT
DTSTART;TZID=Europe/Stockholm:20260524T190000
DTEND;TZID=Europe/Stockholm:20260524T210000
DTSTAMP:20260424T101255
CREATED:20260116T081117Z
LAST-MODIFIED:20260116T082531Z
UID:6374-1779649200-1779656400@oamck.se
SUMMARY:Fikakväll i klubbkåken
DESCRIPTION:Fikakväll i klubbkåken i Stångby.\nFikavärd: Anders F Eriksson
URL:https://oamck.se/events/fikakvall-i-klubbkaken-11/
LOCATION:Stångby
END:VEVENT
BEGIN:VEVENT
DTSTART;TZID=Europe/Stockholm:20260531T190000
DTEND;TZID=Europe/Stockholm:20260531T210000
DTSTAMP:20260424T101255
CREATED:20260116T081259Z
LAST-MODIFIED:20260116T082629Z
UID:6376-1780254000-1780261200@oamck.se
SUMMARY:Fikakväll i klubbkåken
DESCRIPTION:Fikakväll i klubbkåken i Stångby.\nFikavärd: Jan Lindberg
URL:https://oamck.se/events/fikakvall-i-klubbkaken-12/
LOCATION:Stångby
END:VEVENT
BEGIN:VEVENT
DTSTART;TZID=Europe/Stockholm:20260606T080000
DTEND;TZID=Europe/Stockholm:20260606T170000
DTSTAMP:20260424T101255
CREATED:20260215T112542Z
LAST-MODIFIED:20260215T112542Z
UID:6446-1780732800-1780765200@oamck.se
SUMMARY:Nationaldagsloppet (ordonnanser)
DESCRIPTION:
URL:https://oamck.se/events/nationaldagsloppet-ordonnanser/
LOCATION:Stockholm
END:VEVENT
BEGIN:VEVENT
DTSTART;TZID=Europe/Stockholm:20260607T100000
DTEND;TZID=Europe/Stockholm:20260607T170000
DTSTAMP:20260424T101255
CREATED:20260215T112751Z
LAST-MODIFIED:20260215T112751Z
UID:6449-1780826400-1780851600@oamck.se
SUMMARY:Dagtouring OBS Söndag
DESCRIPTION:Avfärd från Lelles.
URL:https://oamck.se/events/dagtouring-obs-sondag/
LOCATION:Lelles MC\, Nymansgatan 6\, Uppsala\, 75323\, Sverige
END:VEVENT
BEGIN:VEVENT
DTSTART;TZID=Europe/Stockholm:20260607T190000
DTEND;TZID=Europe/Stockholm:20260607T210000
DTSTAMP:20260424T101255
CREATED:20260116T081820Z
LAST-MODIFIED:20260116T081820Z
UID:6380-1780858800-1780866000@oamck.se
SUMMARY:Fikakväll i klubbkåken
DESCRIPTION:Fikakväll i klubbkåken i Stångby.\nFikavärd: Andreas Brodin
URL:https://oamck.se/events/fikakvall-i-klubbkaken-13/
LOCATION:Stångby
END:VEVENT
BEGIN:VEVENT
DTSTART;TZID=Europe/Stockholm:20260612T080000
DTEND;TZID=Europe/Stockholm:20260614T170000
DTSTAMP:20260424T101255
CREATED:20260215T113103Z
LAST-MODIFIED:20260215T113103Z
UID:6451-1781251200-1781456400@oamck.se
SUMMARY:Vätternrundan (Ordonnanser)
DESCRIPTION:
URL:https://oamck.se/events/vatternrundan-ordonnanser-2/
LOCATION:Motala
END:VEVENT
BEGIN:VEVENT
DTSTART;TZID=Europe/Stockholm:20260614T190000
DTEND;TZID=Europe/Stockholm:20260614T210000
DTSTAMP:20260424T101255
CREATED:20260116T081937Z
LAST-MODIFIED:20260116T081937Z
UID:6382-1781463600-1781470800@oamck.se
SUMMARY:Fikakväll i klubbkåken
DESCRIPTION:Fikakväll i klubbkåken i Stångby.\nFikavärd: Jan Karlsson
URL:https://oamck.se/events/fikakvall-i-klubbkaken-14/
LOCATION:Stångby
END:VEVENT
BEGIN:VEVENT
DTSTART;TZID=Europe/Stockholm:20260625T080000
DTEND;TZID=Europe/Stockholm:20260701T170000
DTSTAMP:20260424T101255
CREATED:20260215T113348Z
LAST-MODIFIED:20260215T113348Z
UID:6453-1782374400-1782925200@oamck.se
SUMMARY:Cykel SM
DESCRIPTION:
URL:https://oamck.se/events/cykel-sm/
LOCATION:Ulva Kvarn
END:VEVENT
BEGIN:VEVENT
DTSTART;TZID=Europe/Stockholm:20260704T100000
DTEND;TZID=Europe/Stockholm:20260704T170000
DTSTAMP:20260424T101255
CREATED:20260215T113557Z
LAST-MODIFIED:20260215T113557Z
UID:6455-1783159200-1783184400@oamck.se
SUMMARY:Dagtouring
DESCRIPTION:Avfärd från Lelles.
URL:https://oamck.se/events/dagtouring-3/
LOCATION:Lelles MC\, Nymansgatan 6\, Uppsala\, 75323\, Sverige
END:VEVENT
BEGIN:VEVENT
DTSTART;TZID=Europe/Stockholm:20260711T170000
DTEND;TZID=Europe/Stockholm:20260711T210000
DTSTAMP:20260424T101255
CREATED:20260215T113833Z
LAST-MODIFIED:20260215T113833Z
UID:6457-1783789200-1783803600@oamck.se
SUMMARY:Grillfest
DESCRIPTION:Tag med det du vill äta och dricka.
URL:https://oamck.se/events/grillfest-2/
LOCATION:Stångby
END:VEVENT
BEGIN:VEVENT
DTSTART;TZID=Europe/Stockholm:20260808T100000
DTEND;TZID=Europe/Stockholm:20260808T170000
DTSTAMP:20260424T101255
CREATED:20260215T114031Z
LAST-MODIFIED:20260215T114031Z
UID:6459-1786183200-1786208400@oamck.se
SUMMARY:Dagtouring
DESCRIPTION:Avfärd från Lelles.
URL:https://oamck.se/events/dagtouring-4/
LOCATION:Lelles MC\, Nymansgatan 6\, Uppsala\, 75323\, Sverige
END:VEVENT
BEGIN:VEVENT
DTSTART;TZID=Europe/Stockholm:20260815T080000
DTEND;TZID=Europe/Stockholm:20260815T170000
DTSTAMP:20260424T101255
CREATED:20260215T114437Z
LAST-MODIFIED:20260215T114437Z
UID:6461-1786780800-1786813200@oamck.se
SUMMARY:Mälaren runt
DESCRIPTION:
URL:https://oamck.se/events/malaren-runt/
LOCATION:Stockholm
END:VEVENT
BEGIN:VEVENT
DTSTART;TZID=Europe/Stockholm:20260829T170000
DTEND;TZID=Europe/Stockholm:20260829T210000
DTSTAMP:20260424T101255
CREATED:20260215T114708Z
LAST-MODIFIED:20260215T114708Z
UID:6464-1788022800-1788037200@oamck.se
SUMMARY:Kräftkalas
DESCRIPTION:Tag med det du vill äta och dricka.
URL:https://oamck.se/events/kraftkalas-2/
LOCATION:Klubben\, Stångby 1\, Uppsala\, 754 73\, Sverige
END:VEVENT
BEGIN:VEVENT
DTSTART;TZID=Europe/Stockholm:20260905T100000
DTEND;TZID=Europe/Stockholm:20260905T170000
DTSTAMP:20260424T101255
CREATED:20260215T114858Z
LAST-MODIFIED:20260215T114858Z
UID:6466-1788602400-1788627600@oamck.se
SUMMARY:Dagtouring
DESCRIPTION:Avfärd från Lelles.
URL:https://oamck.se/events/dagtouring-5/
LOCATION:Lelles MC\, Nymansgatan 6\, Uppsala\, 75323\, Sverige
END:VEVENT
BEGIN:VEVENT
DTSTART;TZID=Europe/Stockholm:20260912T080000
DTEND;TZID=Europe/Stockholm:20260913T170000
DTSTAMP:20260424T101255
CREATED:20260215T115045Z
LAST-MODIFIED:20260215T115045Z
UID:6468-1789200000-1789318800@oamck.se
SUMMARY:Hemlig resa
DESCRIPTION:Info. kommer senare.
URL:https://oamck.se/events/hemlig-resa-3/
END:VEVENT
BEGIN:VEVENT
DTSTART;TZID=Europe/Stockholm:20261003T100000
DTEND;TZID=Europe/Stockholm:20261003T170000
DTSTAMP:20260424T101256
CREATED:20260215T115305Z
LAST-MODIFIED:20260215T115305Z
UID:6470-1791021600-1791046800@oamck.se
SUMMARY:Dagtouring
DESCRIPTION:Avfärd från Lelles.
URL:https://oamck.se/events/dagtouring-6/
LOCATION:Lelles MC\, Nymansgatan 6\, Uppsala\, 75323\, Sverige
END:VEVENT
BEGIN:VEVENT
DTSTART;TZID=Europe/Stockholm:20261024T123000
DTEND;TZID=Europe/Stockholm:20261024T213000
DTSTAMP:20260424T101256
CREATED:20260215T120016Z
LAST-MODIFIED:20260215T120016Z
UID:6474-1792845000-1792877400@oamck.se
SUMMARY:Ålandkryss med Eckerölinjen ( Viltbord)
DESCRIPTION:Info. kommer senare.
URL:https://oamck.se/events/alandkryss-med-eckerolinjen-viltbord/
LOCATION:Grisslehamn\, Grisslehamn
END:VEVENT
BEGIN:VEVENT
DTSTART;TZID=Europe/Stockholm:20261107T040000
DTEND;TZID=Europe/Stockholm:20261116T233000
DTSTAMP:20260424T101256
CREATED:20260215T120346Z
LAST-MODIFIED:20260215T120346Z
UID:6476-1794024000-1794871800@oamck.se
SUMMARY:Andalusienresa?
DESCRIPTION:
URL:https://oamck.se/events/andalusienresa-3/
LOCATION:Andalusien\, Spanien
END:VEVENT
BEGIN:VEVENT
DTSTART;TZID=Europe/Stockholm:20261121T160000
DTEND;TZID=Europe/Stockholm:20261121T200000
DTSTAMP:20260424T101256
CREATED:20260215T115621Z
LAST-MODIFIED:20260215T115621Z
UID:6472-1795276800-1795291200@oamck.se
SUMMARY:Flipperturnering
DESCRIPTION:
URL:https://oamck.se/events/flipperturnering-2/
LOCATION:Klubben\, Stångby 1\, Uppsala\, 754 73\, Sverige
END:VEVENT
BEGIN:VEVENT
DTSTART;TZID=Europe/Stockholm:20261122T160000
DTEND;TZID=Europe/Stockholm:20261122T190000
DTSTAMP:20260424T101256
CREATED:20260215T120631Z
LAST-MODIFIED:20260215T120631Z
UID:6478-1795363200-1795374000@oamck.se
SUMMARY:Ordonnansavslutning
DESCRIPTION:
URL:https://oamck.se/events/ordonnansavslutning/
LOCATION:Klubben\, Stångby 1\, Uppsala\, 754 73\, Sverige
END:VEVENT
END:VCALENDAR